BEGIN:VCALENDAR
VERSION:2.0
PRODID:-//DVIP &amp; RVAP of Iowa - ECPv6.10.2//NONSGML v1.0//EN
CALSCALE:GREGORIAN
METHOD:PUBLISH
X-WR-CALNAME:DVIP &amp; RVAP of Iowa
X-ORIGINAL-URL:https://dvipiowa.org
X-WR-CALDESC:Events for DVIP &amp; RVAP of Iowa
REFRESH-INTERVAL;VALUE=DURATION:PT1H
X-Robots-Tag:noindex
X-PUBLISHED-TTL:PT1H
BEGIN:VTIMEZONE
TZID:America/Chicago
BEGIN:DAYLIGHT
TZOFFSETFROM:-0600
TZOFFSETTO:-0500
TZNAME:CDT
DTSTART:20260308T080000
END:DAYLIGHT
BEGIN:STANDARD
TZOFFSETFROM:-0500
TZOFFSETTO:-0600
TZNAME:CST
DTSTART:20261101T070000
END:STANDARD
END:VTIMEZONE
BEGIN:VEVENT
DTSTART;TZID=America/Chicago:20260424T190000
DTEND;TZID=America/Chicago:20260424T210000
DTSTAMP:20260424T074605
CREATED:20260302T171115Z
LAST-MODIFIED:20260312T164857Z
UID:6521-1777057200-1777064400@dvipiowa.org
SUMMARY:Safe Space Dance Party
DESCRIPTION:Join DVIP & RVAP for a safe space dance party  where you can dance your heart out to tunes that celebrate healthy relationships and model consent. The Safe Space Dance Party takes place at Studio 13 (13 S Linn St\, Iowa City) on April 24th from 7-9 PM. $10 cover charge goes directly to supporting victim-survivors of sexual violence.
URL:https://dvipiowa.org/event/safe-space-dance-party/
LOCATION:Studio 13\, 13 S Linn St\, Iowa City\, IA\, 52240\, United States
END:VEVENT
END:VCALENDAR